BEGIN:VCALENDAR
VERSION:2.0
PRODID:-//Frolic//Denver Events//EN
CALSCALE:GREGORIAN
METHOD:PUBLISH
X-WR-CALNAME:Frolic — Iration w/ Artikal Sound System **FRIDAY 6/19**
BEGIN:VEVENT
UID:69ec8464dfacabf705ea1c9e-1781924400000@frolic.town
DTSTAMP:20260425T153147Z
DTSTART:20260620T030000Z
DTEND:20260620T050000Z
SUMMARY:Iration w/ Artikal Sound System **FRIDAY 6/19**
DESCRIPTION:Iration brings the Where It All Began Tour to Cervantes’ Masterpiece Ballroom with Artikal Sound System. Expect a sunny\, reggae-leaning live show with a big singalong crowd.\nhttps://frolic.town/denver/events/69ec8464dfacabf705ea1c9e
LOCATION:Cervantes’ Masterpiece Ballroom
URL:https://frolic.town/denver/events/69ec8464dfacabf705ea1c9e
END:VEVENT
END:VCALENDAR
