BEGIN:VCALENDAR
VERSION:2.0
PRODID:-//Frolic//Denver Events//EN
CALSCALE:GREGORIAN
METHOD:PUBLISH
X-WR-CALNAME:Frolic — Earl Sweatshirt & MIKE w/ Harrison (Surf Gang) AT MISSION BALLROOM
BEGIN:VEVENT
UID:69ec8463dfacabf705ea1c8b-1781661600000@frolic.town
DTSTAMP:20260425T152647Z
DTSTART:20260617T020000Z
DTEND:20260617T040000Z
SUMMARY:Earl Sweatshirt & MIKE w/ Harrison (Surf Gang) AT MISSION BALLROOM
DESCRIPTION:Earl Sweatshirt and MIKE bring Harrison (Surf Gang) to Mission Ballroom. Expect a thoughtful\, lyric-forward hip-hop show in a large-room setting with an all-ages audience.\nhttps://frolic.town/denver/events/69ec8463dfacabf705ea1c8b
LOCATION:Mission Ballroom
URL:https://frolic.town/denver/events/69ec8463dfacabf705ea1c8b
END:VEVENT
END:VCALENDAR
