BEGIN:VCALENDAR
VERSION:2.0
PRODID:-//Frolic//Denver Events//EN
CALSCALE:GREGORIAN
METHOD:PUBLISH
X-WR-CALNAME:Frolic — EMO FEST: An Evening of Drag + Pop Punk by Discord Addams
BEGIN:VEVENT
UID:69ec8462dfacabf705ea1c80-1781494200000@frolic.town
DTSTAMP:20260425T155159Z
DTSTART:20260615T033000Z
DTEND:20260615T053000Z
SUMMARY:EMO FEST: An Evening of Drag + Pop Punk by Discord Addams
DESCRIPTION:EMO FEST blends drag performance and pop-punk energy at Cervantes’ Masterpiece Ballroom. Expect a theatrical\, high-volume celebration with a crowd that’s there to sing\, scream\, and dance.\nhttps://frolic.town/denver/events/69ec8462dfacabf705ea1c80
LOCATION:Cervantes’ Masterpiece Ballroom
URL:https://frolic.town/denver/events/69ec8462dfacabf705ea1c80
END:VEVENT
END:VCALENDAR
