BEGIN:VCALENDAR
VERSION:2.0
PRODID:-//Frolic//Denver Events//EN
CALSCALE:GREGORIAN
METHOD:PUBLISH
X-WR-CALNAME:Frolic — bleood w/ Special Guests
BEGIN:VEVENT
UID:69ec8462dfacabf705ea1c75-1781492400000@frolic.town
DTSTAMP:20260425T154650Z
DTSTART:20260615T030000Z
DTEND:20260615T050000Z
SUMMARY:bleood w/ Special Guests
DESCRIPTION:bleood brings the Protagonist Tour to Cervantes’ Other Side with special guests. Expect a focused live set and an intimate room that keeps the energy close to the stage.\nhttps://frolic.town/denver/events/69ec8462dfacabf705ea1c75
LOCATION:Cervantes’ Other Side
URL:https://frolic.town/denver/events/69ec8462dfacabf705ea1c75
END:VEVENT
END:VCALENDAR
