BEGIN:VCALENDAR
VERSION:2.0
PRODID:-//Frolic//Denver Events//EN
CALSCALE:GREGORIAN
METHOD:PUBLISH
X-WR-CALNAME:Frolic — FLOORGASM Ft. LSDXOXO\, Bambii\, DJ g2g
BEGIN:VEVENT
UID:69ec8462dfacabf705ea1c6a-1781409600000@frolic.town
DTSTAMP:20260425T155215Z
DTSTART:20260614T040000Z
DTEND:20260614T060000Z
SUMMARY:FLOORGASM Ft. LSDXOXO\, Bambii\, DJ g2g
DESCRIPTION:Cervantes’ and Headroom Present FLOORGASM with LSDXOXO\, Bambii\, and DJ g2g. Expect a late-night dance party with a club-forward crowd and a strong electronic lineup.\nhttps://frolic.town/denver/events/69ec8462dfacabf705ea1c6a
LOCATION:Cervantes’ Masterpiece Ballroom
URL:https://frolic.town/denver/events/69ec8462dfacabf705ea1c6a
END:VEVENT
END:VCALENDAR
