BEGIN:VCALENDAR
VERSION:2.0
PRODID:-//Frolic//Denver Events//EN
CALSCALE:GREGORIAN
METHOD:PUBLISH
X-WR-CALNAME:Frolic — Giant Walking Robots & Splendid Blend w/ The Desert Furs
BEGIN:VEVENT
UID:69ec8461dfacabf705ea1c5f-1781406000000@frolic.town
DTSTAMP:20260425T153002Z
DTSTART:20260614T030000Z
DTEND:20260614T050000Z
SUMMARY:Giant Walking Robots & Splendid Blend w/ The Desert Furs
DESCRIPTION:Giant Walking Robots and Splendid Blend team up with The Desert Furs for a live show listed on the Cervantes page. It’s a straightforward concert bill aimed at fans of energetic local and touring acts.\nhttps://frolic.town/denver/events/69ec8461dfacabf705ea1c5f
URL:https://frolic.town/denver/events/69ec8461dfacabf705ea1c5f
END:VEVENT
END:VCALENDAR
