BEGIN:VCALENDAR
VERSION:2.0
PRODID:-//Frolic//Denver Events//EN
CALSCALE:GREGORIAN
METHOD:PUBLISH
X-WR-CALNAME:Frolic — Atlas Radio w/ MoonRadish\, Vada
BEGIN:VEVENT
UID:69ec8461dfacabf705ea1c4f-1781319600000@frolic.town
DTSTAMP:20260425T151023Z
DTSTART:20260613T030000Z
DTEND:20260613T050000Z
SUMMARY:Atlas Radio w/ MoonRadish\, Vada
DESCRIPTION:Atlas Radio plays Cervantes’ Other Side with MoonRadish and Vada. The intimate venue should make for a close\, energetic show with a local-support feel.\nhttps://frolic.town/denver/events/69ec8461dfacabf705ea1c4f
LOCATION:Cervantes’ Other Side
URL:https://frolic.town/denver/events/69ec8461dfacabf705ea1c4f
END:VEVENT
END:VCALENDAR
