BEGIN:VCALENDAR
VERSION:2.0
PRODID:-//Frolic//Denver Events//EN
CALSCALE:GREGORIAN
METHOD:PUBLISH
X-WR-CALNAME:Frolic — Shordie Shordie w/ Hoodtrophy Bino
BEGIN:VEVENT
UID:69ec8460dfacabf705ea1c3b-1780887600000@frolic.town
DTSTAMP:20260425T154625Z
DTSTART:20260608T030000Z
DTEND:20260608T050000Z
SUMMARY:Shordie Shordie w/ Hoodtrophy Bino
DESCRIPTION:Shordie Shordie brings the Schools Out Tour to Cervantes’ Masterpiece Ballroom with Hoodtrophy Bino. Expect a contemporary hip-hop show with a lively crowd and a late-spring concert feel.\nhttps://frolic.town/denver/events/69ec8460dfacabf705ea1c3b
LOCATION:Cervantes’ Masterpiece Ballroom
URL:https://frolic.town/denver/events/69ec8460dfacabf705ea1c3b
END:VEVENT
END:VCALENDAR
