BEGIN:VCALENDAR
VERSION:2.0
PRODID:-//Frolic//Denver Events//EN
CALSCALE:GREGORIAN
METHOD:PUBLISH
X-WR-CALNAME:Frolic — Kenny Mason w/ Special Guests
BEGIN:VEVENT
UID:69ec8460dfacabf705ea1c30-1780801200000@frolic.town
DTSTAMP:20260425T155227Z
DTSTART:20260607T030000Z
DTEND:20260607T050000Z
SUMMARY:Kenny Mason w/ Special Guests
DESCRIPTION:Kenny Mason brings the American BULLDAWG Tour to Cervantes’ Masterpiece Ballroom with special guests. Expect a sharp\, high-energy rap show with a strong touring presence.\nhttps://frolic.town/denver/events/69ec8460dfacabf705ea1c30
LOCATION:Cervantes’ Masterpiece Ballroom
URL:https://frolic.town/denver/events/69ec8460dfacabf705ea1c30
END:VEVENT
END:VCALENDAR
