BEGIN:VCALENDAR
VERSION:2.0
PRODID:-//Frolic//Denver Events//EN
CALSCALE:GREGORIAN
METHOD:PUBLISH
X-WR-CALNAME:Frolic — Juno What?! w/ DeadPhish Orchestra
BEGIN:VEVENT
UID:69ec845fdfacabf705ea1c25-1780801200000@frolic.town
DTSTAMP:20260425T152723Z
DTSTART:20260607T030000Z
DTEND:20260607T050000Z
SUMMARY:Juno What?! w/ DeadPhish Orchestra
DESCRIPTION:Juno What?! teams up with DeadPhish Orchestra at Cervantes’ Other Side. Expect a jam-friendly night with improvisational energy and a crowd that knows the songs.\nhttps://frolic.town/denver/events/69ec845fdfacabf705ea1c25
LOCATION:Cervantes’ Other Side
URL:https://frolic.town/denver/events/69ec845fdfacabf705ea1c25
END:VEVENT
END:VCALENDAR
