BEGIN:VCALENDAR
VERSION:2.0
PRODID:-//Frolic//Denver Events//EN
CALSCALE:GREGORIAN
METHOD:PUBLISH
X-WR-CALNAME:Frolic — Daniel Allan w/ Special Guests
BEGIN:VEVENT
UID:69ec845fdfacabf705ea1c1a-1780716600000@frolic.town
DTSTAMP:20260425T152112Z
DTSTART:20260606T033000Z
DTEND:20260606T053000Z
SUMMARY:Daniel Allan w/ Special Guests
DESCRIPTION:Daniel Allan brings special guests to Cervantes’ Masterpiece Ballroom for a late-evening live set. Expect a modern electronic performance with a polished ballroom production.\nhttps://frolic.town/denver/events/69ec845fdfacabf705ea1c1a
LOCATION:Cervantes’ Masterpiece Ballroom
URL:https://frolic.town/denver/events/69ec845fdfacabf705ea1c1a
END:VEVENT
END:VCALENDAR
