BEGIN:VCALENDAR
VERSION:2.0
PRODID:-//Frolic//Denver Events//EN
CALSCALE:GREGORIAN
METHOD:PUBLISH
X-WR-CALNAME:Frolic — Eric Krasno & Friends ft. Nikki Glaspie\, Adam MacDougall\, Ross James w/ Shuga T
BEGIN:VEVENT
UID:69ec845fdfacabf705ea1c0f-1780714800000@frolic.town
DTSTAMP:20260425T150512Z
DTSTART:20260606T030000Z
DTEND:20260606T050000Z
SUMMARY:Eric Krasno & Friends ft. Nikki Glaspie\, Adam MacDougall\, Ross James w/ Shuga T
DESCRIPTION:Eric Krasno & Friends brings Nikki Glaspie\, Adam MacDougall\, Ross James\, and Shuga T to Cervantes’ Other Side. The show should feel loose\, collaborative\, and jam-oriented in a close-up venue.\nhttps://frolic.town/denver/events/69ec845fdfacabf705ea1c0f
LOCATION:Cervantes’ Other Side
URL:https://frolic.town/denver/events/69ec845fdfacabf705ea1c0f
END:VEVENT
END:VCALENDAR
