BEGIN:VCALENDAR
VERSION:2.0
PRODID:-//Frolic//Denver Events//EN
CALSCALE:GREGORIAN
METHOD:PUBLISH
X-WR-CALNAME:Frolic — Burning Spear w/ Jesse Royal
BEGIN:VEVENT
UID:69ec845edfacabf705ea1c04-1780628400000@frolic.town
DTSTAMP:20260425T153521Z
DTSTART:20260605T030000Z
DTEND:20260605T050000Z
SUMMARY:Burning Spear w/ Jesse Royal
DESCRIPTION:KGNU Radio Presents Burning Spear with Jesse Royal at Cervantes’ Masterpiece Ballroom. Expect a powerful reggae bill with legendary presence and a crowd ready for a classic live set.\nhttps://frolic.town/denver/events/69ec845edfacabf705ea1c04
LOCATION:Cervantes’ Masterpiece Ballroom
URL:https://frolic.town/denver/events/69ec845edfacabf705ea1c04
END:VEVENT
END:VCALENDAR
