BEGIN:VCALENDAR
VERSION:2.0
PRODID:-//Frolic//Denver Events//EN
CALSCALE:GREGORIAN
METHOD:PUBLISH
X-WR-CALNAME:Frolic — Bronwyn Keith-Hynes w/ Handmade Moments
BEGIN:VEVENT
UID:69ec845edfacabf705ea1bf9-1780628400000@frolic.town
DTSTAMP:20260425T150529Z
DTSTART:20260605T030000Z
DTEND:20260605T050000Z
SUMMARY:Bronwyn Keith-Hynes w/ Handmade Moments
DESCRIPTION:Bronwyn Keith-Hynes performs with Handmade Moments at Cervantes’ Other Side. Expect a rootsy\, acoustic-leaning live show with an intimate room and a warm audience connection.\nhttps://frolic.town/denver/events/69ec845edfacabf705ea1bf9
LOCATION:Cervantes’ Other Side
URL:https://frolic.town/denver/events/69ec845edfacabf705ea1bf9
END:VEVENT
END:VCALENDAR
