BEGIN:VCALENDAR
VERSION:2.0
PRODID:-//Frolic//Denver Events//EN
CALSCALE:GREGORIAN
METHOD:PUBLISH
X-WR-CALNAME:Frolic — Jazz Small Groups
BEGIN:VEVENT
UID:69ec844adfacabf705ea1a8f-1777680000000@frolic.town
DTSTAMP:20260425T151459Z
DTSTART:20260502T000000Z
DTEND:20260502T020000Z
SUMMARY:Jazz Small Groups
DESCRIPTION:The small groups from the Lamont School of Music\, directed by Peter Stoltzman and Zach Rich\, share what they’ve been working on this quarter. Expect an intimate student performance in a recital setting that highlights ensemble playing and fresh musical ideas. It’s a straightforward showcase for jazz fans and supporters of the program.\nhttps://frolic.town/denver/events/69ec844adfacabf705ea1a8f
LOCATION:Newman Center for the Performing Arts\, Williams Recital Salon
URL:https://frolic.town/denver/events/69ec844adfacabf705ea1a8f
END:VEVENT
END:VCALENDAR
