BEGIN:VCALENDAR
VERSION:2.0
PRODID:-//Frolic//Denver Events//EN
CALSCALE:GREGORIAN
METHOD:PUBLISH
X-WR-CALNAME:Frolic — Chelsea's Bingo - Sunday Mornings
BEGIN:VEVENT
UID:69ec8440dfacabf705ea19e7-1777253400000@frolic.town
DTSTAMP:20260425T153725Z
DTSTART:20260427T013000Z
DTEND:20260427T034500Z
SUMMARY:Chelsea's Bingo - Sunday Mornings
DESCRIPTION:Join Chelsea’s Bingo every Sunday morning for a lively session packed with bingo\, pulltabs\, and extra event games. The host\, Chelsea Hutchison Foundation\, supports people living with seizure and epilepsy diagnoses\, and the event includes $2\,000 in bingo payouts each session. Doors open early\, making it a social\, high-energy way to spend a Sunday in Aurora.\nhttps://frolic.town/denver/events/69ec8440dfacabf705ea19e7
LOCATION:Turn of the Century Bingo Hall
URL:https://frolic.town/denver/events/69ec8440dfacabf705ea19e7
END:VEVENT
END:VCALENDAR
