BEGIN:VCALENDAR
VERSION:2.0
PRODID:-//Frolic//Denver Events//EN
CALSCALE:GREGORIAN
METHOD:PUBLISH
X-WR-CALNAME:Frolic — LCD Soundsystem
BEGIN:VEVENT
UID:69ec7ceadfacabf705ea1911-1786820400000@frolic.town
DTSTAMP:20260425T120402Z
DTSTART:20260815T190000Z
DTEND:20260815T210000Z
SUMMARY:LCD Soundsystem
DESCRIPTION:LCD Soundsystem brings its dance-punk energy to Red Rocks Amphitheatre with Feist and Victoryland. Expect a stylish\, high-energy night that turns the amphitheatre into a massive outdoor dance floor.\nhttps://frolic.town/denver/events/69ec7ceadfacabf705ea1911
LOCATION:Red Rocks Amphitheatre
URL:https://frolic.town/denver/events/69ec7ceadfacabf705ea1911
END:VEVENT
END:VCALENDAR
