BEGIN:VCALENDAR
VERSION:2.0
PRODID:-//Frolic//Denver Events//EN
CALSCALE:GREGORIAN
METHOD:PUBLISH
X-WR-CALNAME:Frolic — 'Round the Table with Colorado Printmakers
BEGIN:VEVENT
UID:69ec7c96dfacabf705ea11a5-1778634000000@frolic.town
DTSTAMP:20260425T115821Z
DTSTART:20260513T010000Z
DTEND:20260513T020000Z
SUMMARY:'Round the Table with Colorado Printmakers
DESCRIPTION:Join a panel conversation with professional printmakers featured in 'Round the Clock: 24 Hours of Colorado in Prints. The discussion offers insight into the artists’ processes\, inspirations\, and the exhibition’s connection to Colorado. It’s a thoughtful evening for anyone interested in printmaking and contemporary art.\nhttps://frolic.town/denver/events/69ec7c96dfacabf705ea11a5
LOCATION:Denver Art Museum
URL:https://frolic.town/denver/events/69ec7c96dfacabf705ea11a5
END:VEVENT
END:VCALENDAR
