BEGIN:VCALENDAR
VERSION:2.0
PRODID:-//Frolic//Denver Events//EN
CALSCALE:GREGORIAN
METHOD:PUBLISH
X-WR-CALNAME:Frolic — Demo Artist: Lizzy Truskin
BEGIN:VEVENT
UID:69ec7c95dfacabf705ea1184-1778353200000@frolic.town
DTSTAMP:20260425T120737Z
DTSTART:20260509T190000Z
DTEND:20260509T220000Z
SUMMARY:Demo Artist: Lizzy Truskin
DESCRIPTION:Join artist Lizzy Truskin for Studio Saturdays in the Cosmic Studio. This live demo offers a chance to see an artist at work and experience the museum’s creative studio environment. It’s a lively\, family-friendly stop for visitors interested in contemporary art-making.\nhttps://frolic.town/denver/events/69ec7c95dfacabf705ea1184
LOCATION:Denver Art Museum
URL:https://frolic.town/denver/events/69ec7c95dfacabf705ea1184
END:VEVENT
END:VCALENDAR
