BEGIN:VCALENDAR
VERSION:2.0
PRODID:-//Frolic//Denver Events//EN
CALSCALE:GREGORIAN
METHOD:PUBLISH
X-WR-CALNAME:Frolic — Strolling Stories at Chatfield Farms: Sounds of Nature
BEGIN:VEVENT
UID:69ec7c90dfacabf705ea1119-1777393800000@frolic.town
DTSTAMP:20260425T120037Z
DTSTART:20260428T163000Z
DTEND:20260428T171500Z
SUMMARY:Strolling Stories at Chatfield Farms: Sounds of Nature
DESCRIPTION:Close your eyes\, open your ears\, and discover what sounds are near. Families and young children will listen to the sounds of nature and use natural materials to make discoveries through play. This toddler and preschool program is a gentle\, sensory-rich experience at Chatfield Farms.\nhttps://frolic.town/denver/events/69ec7c90dfacabf705ea1119
LOCATION:Chatfield Farms
URL:https://frolic.town/denver/events/69ec7c90dfacabf705ea1119
END:VEVENT
END:VCALENDAR
