BEGIN:VCALENDAR
VERSION:2.0
PRODID:-//Frolic//Denver Events//EN
CALSCALE:GREGORIAN
METHOD:PUBLISH
X-WR-CALNAME:Frolic — Beginning Bonsai
BEGIN:VEVENT
UID:69ec7c8cdfacabf705ea10b9-1777134600000@frolic.town
DTSTAMP:20260425T115903Z
DTSTART:20260425T163000Z
DTEND:20260425T223000Z
SUMMARY:Beginning Bonsai
DESCRIPTION:Discover the centuries-old Japanese tradition of bonsai with local Colorado bonsai artists. This fun\, hands-on adult workshop introduces the art and care of miniature trees in a welcoming garden setting. It’s a great entry point for anyone curious about bonsai techniques and design.\nhttps://frolic.town/denver/events/69ec7c8cdfacabf705ea10b9
LOCATION:York Street
URL:https://frolic.town/denver/events/69ec7c8cdfacabf705ea10b9
END:VEVENT
END:VCALENDAR
