BEGIN:VCALENDAR
VERSION:2.0
PRODID:-//Frolic//Denver Events//EN
CALSCALE:GREGORIAN
METHOD:PUBLISH
X-WR-CALNAME:Frolic — Capturing the World with Your Smartphone: Travel Photography Made Easy
BEGIN:VEVENT
UID:69ec7c89dfacabf705ea1085-1777134600000@frolic.town
DTSTAMP:20260425T120937Z
DTSTART:20260425T163000Z
DTEND:20260425T190000Z
SUMMARY:Capturing the World with Your Smartphone: Travel Photography Made Easy
DESCRIPTION:Explore the art of travel photography using just your smartphone. The course covers composition\, lighting\, and storytelling so attendees can create stronger images on the go. It’s a creative\, practical class for adults who want to take better photos without carrying a full camera kit.\nhttps://frolic.town/denver/events/69ec7c89dfacabf705ea1085
LOCATION:York Street
URL:https://frolic.town/denver/events/69ec7c89dfacabf705ea1085
END:VEVENT
END:VCALENDAR
