BEGIN:VCALENDAR
VERSION:2.0
PRODID:-//Frolic//Denver Events//EN
CALSCALE:GREGORIAN
METHOD:PUBLISH
X-WR-CALNAME:Frolic — Plant Propagation 101
BEGIN:VEVENT
UID:69ec7c89dfacabf705ea107a-1777134600000@frolic.town
DTSTAMP:20260425T120155Z
DTSTART:20260425T163000Z
DTEND:20260425T183000Z
SUMMARY:Plant Propagation 101
DESCRIPTION:Learn the basics of vegetative and seed propagation for indoor and outdoor plants\, with a primary focus on houseplant propagation. This adult workshop is practical and hands-on\, making it a good fit for plant lovers who want to multiply their collection and build confidence with plant care. Expect a useful\, skill-building session centered on growing healthy new plants.\nhttps://frolic.town/denver/events/69ec7c89dfacabf705ea107a
LOCATION:York Street
URL:https://frolic.town/denver/events/69ec7c89dfacabf705ea107a
END:VEVENT
END:VCALENDAR
