BEGIN:VCALENDAR
VERSION:2.0
PRODID:-//Frolic//Denver Events//EN
CALSCALE:GREGORIAN
METHOD:PUBLISH
X-WR-CALNAME:Frolic — Rugby Nations Cup Doubleheader & 4thFest
BEGIN:VEVENT
UID:69ec7c61dfacabf705ea0d51-1783191600000@frolic.town
DTSTAMP:20260425T120743Z
DTSTART:20260704T190000Z
DTEND:20260704T210000Z
SUMMARY:Rugby Nations Cup Doubleheader & 4thFest
DESCRIPTION:Join the Rugby Nations Cup Doubleheader & 4thFest on July 4 for a festive holiday celebration centered around rugby action. The listing suggests a doubleheader paired with 4thFest activities\, creating a lively Independence Day atmosphere for sports fans and event-goers. With the date clearly shown\, this is a one-day holiday event worth planning around.\nhttps://frolic.town/denver/events/69ec7c61dfacabf705ea0d51
LOCATION:Denver
URL:https://frolic.town/denver/events/69ec7c61dfacabf705ea0d51
END:VEVENT
END:VCALENDAR
